BEGIN:VCALENDAR
VERSION:2.0
PRODID:-//Plone.org//NONSGML plone.app.event//EN
X-WR-TIMEZONE:Europe/Berlin
BEGIN:VEVENT
SUMMARY:The economic value of biodiversity and ecosystems
DTSTART;TZID=GMT+0;VALUE=DATE-TIME:20150423T093000
DTEND;TZID=GMT+0;VALUE=DATE-TIME:20150423T163000
DTSTAMP;VALUE=DATE-TIME:20260422T232323Z
UID:9f6a073ddb794be7976172cfe362acc3@www.isprambiente.gov.it
CREATED;VALUE=DATE-TIME:20150422T110432Z
LAST-MODIFIED;VALUE=DATE-TIME:20160404T165839Z
LOCATION:Catania
URL:https://www.isprambiente.gov.it/en/archive/news-and-other-events/ispra
 -news/year-2015/april/the-economic-value-of-biodiversity-and-ecosystems
END:VEVENT
END:VCALENDAR
