BEGIN:VCALENDAR
VERSION:2.0
PRODID:-//Plone.org//NONSGML plone.app.event//EN
X-WR-TIMEZONE:Europe/Berlin
BEGIN:VEVENT
SUMMARY:The role of the biological Agriculture to fight climate change 
DTSTART;TZID=GMT+0;VALUE=DATE-TIME:20150824T143000
DTEND;TZID=GMT+0;VALUE=DATE-TIME:20150824T200000
DTSTAMP;VALUE=DATE-TIME:20260423T071816Z
UID:cb30ae2c81d2464a89c4248785811789@www.isprambiente.gov.it
CREATED;VALUE=DATE-TIME:20150818T135431Z
LAST-MODIFIED;VALUE=DATE-TIME:20160310T113743Z
LOCATION:Milano\, EXPO 2015\, Parco della Biodiversità\, Teatro della Ter
 ra
URL:https://www.isprambiente.gov.it/en/archive/news-and-other-events/ispra
 -news/year-2015/august/the-role-of-the-biological-agriculture-to-fight-cli
 mate-change
END:VEVENT
END:VCALENDAR
