BEGIN:VCALENDAR
VERSION:2.0
PRODID:-//Plone.org//NONSGML plone.app.event//EN
X-WR-TIMEZONE:Europe/Berlin
BEGIN:VEVENT
SUMMARY:Dredging? Problem or opportunity?
DTSTART;TZID=GMT+0;VALUE=DATE-TIME:20151211T090000
DTEND;TZID=GMT+0;VALUE=DATE-TIME:20151211T130000
DTSTAMP;VALUE=DATE-TIME:20260423T073540Z
UID:2fae4d150f3a438da347e0ea970f8b52@www.isprambiente.gov.it
CREATED;VALUE=DATE-TIME:20151210T123551Z
DESCRIPTION:New normative for dredging management
LAST-MODIFIED;VALUE=DATE-TIME:20160310T113117Z
LOCATION:Livorno
URL:https://www.isprambiente.gov.it/en/archive/news-and-other-events/ispra
 -news/year-2015/december/dredging-problem-or-oppurtinity
END:VEVENT
END:VCALENDAR
