BEGIN:VCALENDAR
VERSION:2.0
PRODID:-//Plone.org//NONSGML plone.app.event//EN
X-WR-TIMEZONE:Europe/Berlin
BEGIN:VEVENT
SUMMARY:From Paris Conference:
DTSTART;TZID=GMT+0;VALUE=DATE-TIME:20151130T090000
DTEND;TZID=GMT+0;VALUE=DATE-TIME:20151211T170000
DTSTAMP;VALUE=DATE-TIME:20260423T101455Z
UID:076bc356344140e19754cbbe3fecd5f4@www.isprambiente.gov.it
CREATED;VALUE=DATE-TIME:20151201T115343Z
DESCRIPTION:During the Conference in Paris\, 11 Countries (included Italy)
  will allocate  248 million dollars in less developed Countries to face c
 limate adaptation. The Italian Ministry of the Environment has allocated 
  2 million dollars by the end of 2015 and he said Italy will increase thi
 s amount next years.   Statement of the Prime Minister Mr. Matteo Renzi\, 
 based on ISPRA data: "Italy has reduced emissions greenhouse by 23% since 
 1990 and has an investment plan for 4 billion dollars from here to 2020. I
 taly is doing its part”.    Press release emissions greenhouse  (ita)
LAST-MODIFIED;VALUE=DATE-TIME:20160310T121630Z
URL:https://www.isprambiente.gov.it/en/archive/news-and-other-events/ispra
 -news/year-2015/december/from-to-paris-conference
END:VEVENT
END:VCALENDAR
