BEGIN:VCALENDAR
VERSION:2.0
PRODID:-//Plone.org//NONSGML plone.app.event//EN
X-WR-TIMEZONE:Europe/Berlin
BEGIN:VEVENT
SUMMARY:Italy recycling 2015 : Report presentation
DTSTART;TZID=GMT+0;VALUE=DATE-TIME:20151215T090000
DTEND;TZID=GMT+0;VALUE=DATE-TIME:20151215T133000
DTSTAMP;VALUE=DATE-TIME:20260423T105057Z
UID:8af55980d5844d59813241a94c12aa38@www.isprambiente.gov.it
CREATED;VALUE=DATE-TIME:20151123T121042Z
LAST-MODIFIED;VALUE=DATE-TIME:20160310T135137Z
LOCATION:Rome
URL:https://www.isprambiente.gov.it/en/archive/news-and-other-events/ispra
 -news/year-2015/december/italy-recycling-2015-report-presentation
END:VEVENT
END:VCALENDAR
