BEGIN:VCALENDAR
VERSION:2.0
PRODID:-//Plone.org//NONSGML plone.app.event//EN
X-WR-TIMEZONE:Europe/Berlin
BEGIN:VEVENT
SUMMARY:Public meeting on radon
DTSTART;TZID=GMT+0;VALUE=DATE-TIME:20151203T173000
DTEND;TZID=GMT+0;VALUE=DATE-TIME:20151203T190000
DTSTAMP;VALUE=DATE-TIME:20260423T105008Z
UID:6a96c64ab0d7408286785e94f4969ef5@www.isprambiente.gov.it
CREATED;VALUE=DATE-TIME:20151203T094405Z
LAST-MODIFIED;VALUE=DATE-TIME:20160310T113117Z
LOCATION:Anzio - Rome
URL:https://www.isprambiente.gov.it/en/archive/news-and-other-events/ispra
 -news/year-2015/december/public-meeting-on-radon
END:VEVENT
END:VCALENDAR
