BEGIN:VCALENDAR
VERSION:2.0
PRODID:-//Plone.org//NONSGML plone.app.event//EN
X-WR-TIMEZONE:Europe/Berlin
BEGIN:VEVENT
SUMMARY:Soil World Day: life under our feet
DTSTART;TZID=GMT+0;VALUE=DATE-TIME:20151205T093000
DTEND;TZID=GMT+0;VALUE=DATE-TIME:20151205T183000
DTSTAMP;VALUE=DATE-TIME:20260423T105210Z
UID:127e9932dc864eb69aae7c4f8301b28d@www.isprambiente.gov.it
CREATED;VALUE=DATE-TIME:20151130T121933Z
DESCRIPTION:The United Nations will celebrate the  International Year of 
 Soils  next 5 December 2015. Soil\, a precious resource on which depends o
 ur survival\, is a fragile resource\, threatened by natural and human pres
 sures that are degrading\, often irreversibly\, its irreplaceable producti
 ve\, environmental and socio-cultural functions.   A real "soil consumptio
 n" that involves\, according to  ISPRA report  \, an irreversible loss of
  6.7 square meters per second in Italy due to its deep alteration and the 
 artificial covering with cement or asphalt (data from Soil Consumption in 
 Italy - edition 2015)
LAST-MODIFIED;VALUE=DATE-TIME:20190725T112814Z
LOCATION:Rome
URL:https://www.isprambiente.gov.it/en/archive/news-and-other-events/ispra
 -news/year-2015/december/soil-world-day-life-under-our-feet
END:VEVENT
END:VCALENDAR
