BEGIN:VCALENDAR
VERSION:2.0
PRODID:-//Plone.org//NONSGML plone.app.event//EN
X-WR-TIMEZONE:Europe/Berlin
BEGIN:VEVENT
SUMMARY:Trasparency Day 2015
DTSTART;TZID=GMT+0;VALUE=DATE-TIME:20151214T093000
DTEND;TZID=GMT+0;VALUE=DATE-TIME:20151214T133000
DTSTAMP;VALUE=DATE-TIME:20260423T104955Z
UID:b3b2fbd199e047adbf3294628b8f0816@www.isprambiente.gov.it
CREATED;VALUE=DATE-TIME:20151130T121212Z
LAST-MODIFIED;VALUE=DATE-TIME:20160310T113116Z
LOCATION:Rome
URL:https://www.isprambiente.gov.it/en/archive/news-and-other-events/ispra
 -news/year-2015/december/trasparency-day-2015
END:VEVENT
END:VCALENDAR
