BEGIN:VCALENDAR
VERSION:2.0
PRODID:-//Plone.org//NONSGML plone.app.event//EN
X-WR-TIMEZONE:Europe/Berlin
BEGIN:VEVENT
SUMMARY:Urban Waste Report 2015 - Focus Veneto
DTSTART;TZID=GMT+0;VALUE=DATE-TIME:20151204T110000
DTEND;TZID=GMT+0;VALUE=DATE-TIME:20151204T133000
DTSTAMP;VALUE=DATE-TIME:20260423T105113Z
UID:7a5835dda8344a99883875c84d6347de@www.isprambiente.gov.it
CREATED;VALUE=DATE-TIME:20151203T155237Z
LAST-MODIFIED;VALUE=DATE-TIME:20160310T135230Z
LOCATION:Padova
URL:https://www.isprambiente.gov.it/en/archive/news-and-other-events/ispra
 -news/year-2015/december/urban-waste-report-2015-focus-veneto
END:VEVENT
END:VCALENDAR
