BEGIN:VCALENDAR
VERSION:2.0
PRODID:-//Plone.org//NONSGML plone.app.event//EN
X-WR-TIMEZONE:Europe/Berlin
BEGIN:VEVENT
SUMMARY:Day dedicated to the geological cartography of Etna Volcano
DTSTART;TZID=GMT+0;VALUE=DATE-TIME:20150710T093000
DTEND;TZID=GMT+0;VALUE=DATE-TIME:20150710T130000
DTSTAMP;VALUE=DATE-TIME:20260423T091939Z
UID:00061d93669f4c92b868a23f6fdb1423@www.isprambiente.gov.it
CREATED;VALUE=DATE-TIME:20150707T150045Z
DESCRIPTION:Presentation of the volume XCVIII Descriptive Memories of Geol
 ogical Map of Italy -ISPRA Geological Survey of Italy and the Web GIS of t
 he Geological Map of Italy
LAST-MODIFIED;VALUE=DATE-TIME:20160329T142502Z
LOCATION:Sant’Agata li Battiati (CT)
URL:https://www.isprambiente.gov.it/en/archive/news-and-other-events/ispra
 -news/year-2015/july/day-dedicated-to-the-geological-cartography-of-etna-v
 olcano
END:VEVENT
END:VCALENDAR
