BEGIN:VCALENDAR
VERSION:2.0
PRODID:-//Plone.org//NONSGML plone.app.event//EN
X-WR-TIMEZONE:Europe/Berlin
BEGIN:VEVENT
SUMMARY:Now and forever resilience. Interventions\, planning and risk cult
 ure for the defense and self-defense from floods in urban areas
DTSTART;TZID=GMT+0;VALUE=DATE-TIME:20150703T093000
DTEND;TZID=GMT+0;VALUE=DATE-TIME:20150703T160000
DTSTAMP;VALUE=DATE-TIME:20260423T091938Z
UID:07b0b1f99790446a93587a534ec683a9@www.isprambiente.gov.it
CREATED;VALUE=DATE-TIME:20150702T133021Z
LAST-MODIFIED;VALUE=DATE-TIME:20160329T142547Z
LOCATION:Rome
URL:https://www.isprambiente.gov.it/en/archive/news-and-other-events/ispra
 -news/year-2015/july/now-and-forever-resilience.-interventions-planning-an
 d-risk-culture-for-the-defense-and-self-defense-from-floods-in-urban-areas
END:VEVENT
END:VCALENDAR
