BEGIN:VCALENDAR
VERSION:2.0
PRODID:-//Plone.org//NONSGML plone.app.event//EN
X-WR-TIMEZONE:Europe/Berlin
BEGIN:VEVENT
SUMMARY:"Post-Metropoli" conference
DTSTART;TZID=GMT+0;VALUE=DATE-TIME:20150706T100000
DTEND;TZID=GMT+0;VALUE=DATE-TIME:20150706T130000
DTSTAMP;VALUE=DATE-TIME:20260423T091712Z
UID:769ff4060d854fe1b7c5617c8a552c93@www.isprambiente.gov.it
CREATED;VALUE=DATE-TIME:20150703T122802Z
DESCRIPTION:An atlas of the transformation processes in big urban Italian 
 areas
LAST-MODIFIED;VALUE=DATE-TIME:20160329T142527Z
LOCATION:Milano\, Politecnico di Milano - Aula Rogers - Via Ampere 2
URL:https://www.isprambiente.gov.it/en/archive/news-and-other-events/ispra
 -news/year-2015/july/post-metropoli-conference
END:VEVENT
END:VCALENDAR
