BEGIN:VCALENDAR
VERSION:2.0
PRODID:-//Plone.org//NONSGML plone.app.event//EN
X-WR-TIMEZONE:Europe/Berlin
BEGIN:VEVENT
SUMMARY:The ways of the sea for growth
DTSTART;TZID=GMT+0;VALUE=DATE-TIME:20150721T100000
DTEND;TZID=GMT+0;VALUE=DATE-TIME:20150721T130000
DTSTAMP;VALUE=DATE-TIME:20260423T075234Z
UID:283a76eec42b438297d369c7bbd8fff4@www.isprambiente.gov.it
CREATED;VALUE=DATE-TIME:20150721T094950Z
LAST-MODIFIED;VALUE=DATE-TIME:20160310T104752Z
LOCATION:Roma
URL:https://www.isprambiente.gov.it/en/archive/news-and-other-events/ispra
 -news/year-2015/july/the-ways-of-the-sea-for-growth
END:VEVENT
END:VCALENDAR
