BEGIN:VCALENDAR
VERSION:2.0
PRODID:-//Plone.org//NONSGML plone.app.event//EN
X-WR-TIMEZONE:Europe/Berlin
BEGIN:VEVENT
SUMMARY:Clean Water States General
DTSTART;TZID=GMT+0;VALUE=DATE-TIME:20150324T093000
DTEND;TZID=GMT+0;VALUE=DATE-TIME:20150324T160000
DTSTAMP;VALUE=DATE-TIME:20260422T235713Z
UID:db4a6ea0f6f549edbecc64bb36c027e3@www.isprambiente.gov.it
CREATED;VALUE=DATE-TIME:20150316T104242Z
LAST-MODIFIED;VALUE=DATE-TIME:20151229T114450Z
LOCATION:Rome
URL:https://www.isprambiente.gov.it/en/archive/news-and-other-events/ispra
 -news/year-2015/march/clean-water-states-general
END:VEVENT
END:VCALENDAR
