BEGIN:VCALENDAR
VERSION:2.0
PRODID:-//Plone.org//NONSGML plone.app.event//EN
X-WR-TIMEZONE:Europe/Berlin
BEGIN:VEVENT
SUMMARY:EUROPE CALLS VENICE
DTSTART;TZID=GMT+0;VALUE=DATE-TIME:20150327T173000
DTEND;TZID=GMT+0;VALUE=DATE-TIME:20150327T200000
DTSTAMP;VALUE=DATE-TIME:20260422T235712Z
UID:039ec127ecbd4689b94eb404bc16e25c@www.isprambiente.gov.it
CREATED;VALUE=DATE-TIME:20150326T130329Z
LAST-MODIFIED;VALUE=DATE-TIME:20151229T114450Z
LOCATION:Cannaregio 1584 - Venezia\, Sala San Leonardo
URL:https://www.isprambiente.gov.it/en/archive/news-and-other-events/ispra
 -news/year-2015/march/europe-calls-venice
END:VEVENT
END:VCALENDAR
