BEGIN:VCALENDAR
VERSION:2.0
PRODID:-//Plone.org//NONSGML plone.app.event//EN
X-WR-TIMEZONE:Europe/Berlin
BEGIN:VEVENT
SUMMARY:Hydrogeology and Territory: the best management practices\, protec
 tion and prevention
DTSTART;TZID=GMT+0;VALUE=DATE-TIME:20150331T103000
DTEND;TZID=GMT+0;VALUE=DATE-TIME:20150331T133000
DTSTAMP;VALUE=DATE-TIME:20260422T235836Z
UID:fe9245e0c0b44db48b2418af97614886@www.isprambiente.gov.it
CREATED;VALUE=DATE-TIME:20150318T094217Z
LAST-MODIFIED;VALUE=DATE-TIME:20160329T170054Z
URL:https://www.isprambiente.gov.it/en/archive/news-and-other-events/ispra
 -news/year-2015/march/hydrogeology-and-territory-the-best-management-pract
 ices-protection-and-prevention
END:VEVENT
END:VCALENDAR
