BEGIN:VCALENDAR
VERSION:2.0
PRODID:-//Plone.org//NONSGML plone.app.event//EN
X-WR-TIMEZONE:Europe/Berlin
BEGIN:VEVENT
SUMMARY:Nexus : food\, water\, energy in the suistainable development
DTSTART;TZID=GMT+0;VALUE=DATE-TIME:20150305T143000
DTEND;TZID=GMT+0;VALUE=DATE-TIME:20150305T173000
DTSTAMP;VALUE=DATE-TIME:20260422T235929Z
UID:e4ce8a3f0e274f189c475405203e9ff4@www.isprambiente.gov.it
CREATED;VALUE=DATE-TIME:20150227T084429Z
LAST-MODIFIED;VALUE=DATE-TIME:20151229T114424Z
LOCATION:Rome\, Ministero degli Affari Esteri e della Cooperazione Interna
 zionale - Sala Aldo Moro
URL:https://www.isprambiente.gov.it/en/archive/news-and-other-events/ispra
 -news/year-2015/march/nexus-food-water-energy-in-the-suistainable-developm
 ent
END:VEVENT
END:VCALENDAR
