BEGIN:VCALENDAR
VERSION:2.0
PRODID:-//Plone.org//NONSGML plone.app.event//EN
X-WR-TIMEZONE:Europe/Berlin
BEGIN:VEVENT
SUMMARY: Third meeting of the Intergovernmental Working Group on the follo
 w-up of Rio + 20 of the UNCCD  and speech of the Executive Secretary Moniq
 ue Barbut 
DTSTART;TZID=GMT+0;VALUE=DATE-TIME:20150318T143000
DTEND;TZID=GMT+0;VALUE=DATE-TIME:20150318T163000
DTSTAMP;VALUE=DATE-TIME:20260423T000023Z
UID:f40e6cd145d2403892ce67ecc33f2dc4@www.isprambiente.gov.it
CREATED;VALUE=DATE-TIME:20150306T115620Z
LAST-MODIFIED;VALUE=DATE-TIME:20151229T114449Z
LOCATION:Rome
URL:https://www.isprambiente.gov.it/en/archive/news-and-other-events/ispra
 -news/year-2015/march/third-meeting-of-the-intergovernmental-working-group
 -on-the-follow-up-of-rio-20-of-the-unccd-and-speech-of-the-executive-secre
 tary-monique-barbut
END:VEVENT
END:VCALENDAR
