BEGIN:VCALENDAR
VERSION:2.0
PRODID:-//Plone.org//NONSGML plone.app.event//EN
X-WR-TIMEZONE:Europe/Berlin
BEGIN:VEVENT
SUMMARY:Flash investigation on the disappearance of urban butterfly and ho
 w to renaturalize the city
DTSTART;TZID=GMT+0;VALUE=DATE-TIME:20150527T103000
DTEND;TZID=GMT+0;VALUE=DATE-TIME:20150527T130000
DTSTAMP;VALUE=DATE-TIME:20260421T080530Z
UID:e08e382be93d4b6fa81aa460a7298c21@www.isprambiente.gov.it
CREATED;VALUE=DATE-TIME:20150518T163445Z
LAST-MODIFIED;VALUE=DATE-TIME:20151229T114547Z
LOCATION:Rome - Corpo Forestale dello Stato\, Via Antonio Salandra\, 44
URL:https://www.isprambiente.gov.it/en/archive/news-and-other-events/ispra
 -news/year-2015/may/flash-investigation-on-the-disappearance-of-urban-butt
 erfly-and-how-to-renaturalize-the-city
END:VEVENT
END:VCALENDAR
