BEGIN:VCALENDAR
VERSION:2.0
PRODID:-//Plone.org//NONSGML plone.app.event//EN
X-WR-TIMEZONE:Europe/Berlin
BEGIN:VEVENT
SUMMARY:Resilient cities\, public spaces and new actors of the urban regen
 eration
DTSTART;TZID=GMT+0;VALUE=DATE-TIME:20150522T090000
DTEND;TZID=GMT+0;VALUE=DATE-TIME:20150522T133000
DTSTAMP;VALUE=DATE-TIME:20260421T074231Z
UID:eadcff1101384e6eb53a8069b95d129e@www.isprambiente.gov.it
CREATED;VALUE=DATE-TIME:20150521T110305Z
LAST-MODIFIED;VALUE=DATE-TIME:20160404T165754Z
LOCATION:Rome
URL:https://www.isprambiente.gov.it/en/archive/news-and-other-events/ispra
 -news/year-2015/may/resilient-cities-public-spaces-and-new-actors-of-the-u
 rban-regeneration
END:VEVENT
END:VCALENDAR
