BEGIN:VCALENDAR
VERSION:2.0
PRODID:-//Plone.org//NONSGML plone.app.event//EN
X-WR-TIMEZONE:Europe/Berlin
BEGIN:VEVENT
SUMMARY:Soil consumption and hydrogeological instability
DTSTART;TZID=GMT+0;VALUE=DATE-TIME:20150522T090000
DTEND;TZID=GMT+0;VALUE=DATE-TIME:20150522T180000
DTSTAMP;VALUE=DATE-TIME:20260421T073739Z
UID:31f0ca6b30b74ca2b98008c92872d530@www.isprambiente.gov.it
CREATED;VALUE=DATE-TIME:20150518T185833Z
LAST-MODIFIED;VALUE=DATE-TIME:20160329T165403Z
LOCATION:Casa dell’Architettura\, Piazza Manfredo Fanti 47\, Roma
URL:https://www.isprambiente.gov.it/en/archive/news-and-other-events/ispra
 -news/year-2015/may/soil-consumption-and-hydrogeological-instability
END:VEVENT
END:VCALENDAR
