BEGIN:VCALENDAR
VERSION:2.0
PRODID:-//Plone.org//NONSGML plone.app.event//EN
X-WR-TIMEZONE:Europe/Berlin
BEGIN:VEVENT
SUMMARY:Tueor ergo ero. Protection of structures of historical and artisti
 c interest from natural hazards: case studies in the world
DTSTART;TZID=GMT+0;VALUE=DATE-TIME:20150507T090000
DTEND;TZID=GMT+0;VALUE=DATE-TIME:20150507T170000
DTSTAMP;VALUE=DATE-TIME:20260421T074128Z
UID:e72219f646b843f19abac8ea0061b8b0@www.isprambiente.gov.it
CREATED;VALUE=DATE-TIME:20150401T121507Z
LAST-MODIFIED;VALUE=DATE-TIME:20151229T114546Z
LOCATION:Rome
URL:https://www.isprambiente.gov.it/en/archive/news-and-other-events/ispra
 -news/year-2015/may/tueor-ergo-ero.-protection-of-structures-of-historical
 -and-artistic-interest-from-natural-hazards-case-studies-in-the-world
END:VEVENT
END:VCALENDAR
