BEGIN:VCALENDAR
VERSION:2.0
PRODID:-//Plone.org//NONSGML plone.app.event//EN
X-WR-TIMEZONE:Europe/Berlin
BEGIN:VEVENT
SUMMARY:2nd edition National Forum Eco-Media Observatory 
DTSTART;TZID=GMT+0;VALUE=DATE-TIME:20151127T090000
DTEND;TZID=GMT+0;VALUE=DATE-TIME:20151127T133000
DTSTAMP;VALUE=DATE-TIME:20260423T035719Z
UID:8b0f4371d569445eba518a2376712af7@www.isprambiente.gov.it
CREATED;VALUE=DATE-TIME:20151111T100453Z
LAST-MODIFIED;VALUE=DATE-TIME:20160404T163023Z
LOCATION:Rome
URL:https://www.isprambiente.gov.it/en/archive/news-and-other-events/ispra
 -news/year-2015/november/2nd-edition-national-forum-eco-media-observatory
END:VEVENT
END:VCALENDAR
