BEGIN:VCALENDAR
VERSION:2.0
PRODID:-//Plone.org//NONSGML plone.app.event//EN
X-WR-TIMEZONE:Europe/Berlin
BEGIN:VEVENT
SUMMARY:Ecolabel UE for the tourists
DTSTART;TZID=GMT+0;VALUE=DATE-TIME:20151126T170000
DTEND;TZID=GMT+0;VALUE=DATE-TIME:20151126T183000
DTSTAMP;VALUE=DATE-TIME:20260423T034943Z
UID:02f69d2fdb3a484a9e6f43ad9dc72783@www.isprambiente.gov.it
CREATED;VALUE=DATE-TIME:20151112T084511Z
LAST-MODIFIED;VALUE=DATE-TIME:20160404T163050Z
LOCATION:Roma
URL:https://www.isprambiente.gov.it/en/archive/news-and-other-events/ispra
 -news/year-2015/november/ecolabel-ue-for-the-tourists
END:VEVENT
END:VCALENDAR
