BEGIN:VCALENDAR
VERSION:2.0
PRODID:-//Plone.org//NONSGML plone.app.event//EN
X-WR-TIMEZONE:Europe/Berlin
BEGIN:VEVENT
SUMMARY: EMODnet European network : informative day
DTSTART;TZID=GMT+0;VALUE=DATE-TIME:20151125T090000
DTEND;TZID=GMT+0;VALUE=DATE-TIME:20151125T163000
DTSTAMP;VALUE=DATE-TIME:20260423T035546Z
UID:a09c06184153474e8065046e65595706@www.isprambiente.gov.it
CREATED;VALUE=DATE-TIME:20151117T121426Z
DESCRIPTION:The European Marine Observation and Data Network (EMODnet) c
 onsists of more than 100 organisations assembling marine data\, products
  and metadata to make these fragmented resources more available to publi
 c and private users relying on quality-assured\, standardised and harmoni
 sed marine data which are interoperable and free of restrictions on use. T
 he event will present the network  EMODnet\, with 2 specific round-tables
  concerning Italian Oceanographic Commission and Marine Strategy.
LAST-MODIFIED;VALUE=DATE-TIME:20160310T113323Z
LOCATION:Roma -  Ministero dell'Ambiente
URL:https://www.isprambiente.gov.it/en/archive/news-and-other-events/ispra
 -news/year-2015/november/emodnet-european-network-informative-day
END:VEVENT
END:VCALENDAR
