BEGIN:VCALENDAR
VERSION:2.0
PRODID:-//Plone.org//NONSGML plone.app.event//EN
X-WR-TIMEZONE:Europe/Berlin
BEGIN:VEVENT
SUMMARY:New challenge for soil
DTSTART;TZID=GMT+0;VALUE=DATE-TIME:20151103T091500
DTEND;TZID=GMT+0;VALUE=DATE-TIME:20151203T130000
DTSTAMP;VALUE=DATE-TIME:20260423T034815Z
UID:10ea42bd5dd646e7b9a56a32e5debaf1@www.isprambiente.gov.it
CREATED;VALUE=DATE-TIME:20151125T102351Z
LAST-MODIFIED;VALUE=DATE-TIME:20160325T135423Z
LOCATION:Milano
URL:https://www.isprambiente.gov.it/en/archive/news-and-other-events/ispra
 -news/year-2015/november/new-challenge-for-soil
END:VEVENT
END:VCALENDAR
