BEGIN:VCALENDAR
VERSION:2.0
PRODID:-//Plone.org//NONSGML plone.app.event//EN
X-WR-TIMEZONE:Europe/Berlin
BEGIN:VEVENT
SUMMARY:Plastic Free Sea
DTSTART;TZID=GMT+0;VALUE=DATE-TIME:20151110T090000
DTEND;TZID=GMT+0;VALUE=DATE-TIME:20151110T133000
DTSTAMP;VALUE=DATE-TIME:20260423T035549Z
UID:4ad7ab1e6d914f2f9cc1cd1cd875e395@www.isprambiente.gov.it
CREATED;VALUE=DATE-TIME:20151029T120646Z
DESCRIPTION:Quantity\, damages and  waste   prevention at sea
LAST-MODIFIED;VALUE=DATE-TIME:20160324T121716Z
LOCATION:Roma
URL:https://www.isprambiente.gov.it/en/archive/news-and-other-events/ispra
 -news/year-2015/november/plastic-free-sea
END:VEVENT
END:VCALENDAR
