BEGIN:VCALENDAR
VERSION:2.0
PRODID:-//Plone.org//NONSGML plone.app.event//EN
X-WR-TIMEZONE:Europe/Berlin
BEGIN:VEVENT
SUMMARY:Presentation of the photographic volume “Deep colors of the Medi
 terranean”
DTSTART;TZID=GMT+0;VALUE=DATE-TIME:20151122T110000
DTEND;TZID=GMT+0;VALUE=DATE-TIME:20151122T120000
DTSTAMP;VALUE=DATE-TIME:20260423T035117Z
UID:b15065b7003b42efae016cede6bc6e39@www.isprambiente.gov.it
CREATED;VALUE=DATE-TIME:20151116T135725Z
LAST-MODIFIED;VALUE=DATE-TIME:20160310T113323Z
LOCATION:Discesa Gaiola\, Napoli
URL:https://www.isprambiente.gov.it/en/archive/news-and-other-events/ispra
 -news/year-2015/november/presentation-of-the-photographic-volume-201cdeep-
 colors-of-the-mediterranean201d-1
END:VEVENT
END:VCALENDAR
