BEGIN:VCALENDAR
VERSION:2.0
PRODID:-//Plone.org//NONSGML plone.app.event//EN
X-WR-TIMEZONE:Europe/Berlin
BEGIN:VEVENT
SUMMARY:Rome 2015. Science Symposium on Climate
DTSTART;TZID=GMT+0;VALUE=DATE-TIME:20151119T090000
DTEND;TZID=GMT+0;VALUE=DATE-TIME:20151120T170000
DTSTAMP;VALUE=DATE-TIME:20260423T035458Z
UID:3e357e6bc80f41e6bcf721678146fed6@www.isprambiente.gov.it
CREATED;VALUE=DATE-TIME:20151104T100718Z
LAST-MODIFIED;VALUE=DATE-TIME:20160310T113322Z
LOCATION:Roma
URL:https://www.isprambiente.gov.it/en/archive/news-and-other-events/ispra
 -news/year-2015/november/rome-2015.-science-symposium-on-climate
END:VEVENT
END:VCALENDAR
