BEGIN:VCALENDAR
VERSION:2.0
PRODID:-//Plone.org//NONSGML plone.app.event//EN
X-WR-TIMEZONE:Europe/Berlin
BEGIN:VEVENT
SUMMARY:The environmental  and economy efficacy of European Ecolabel for t
 he tourism 
DTSTART;TZID=GMT+0;VALUE=DATE-TIME:20151103T150000
DTEND;TZID=GMT+0;VALUE=DATE-TIME:20151103T164500
DTSTAMP;VALUE=DATE-TIME:20260423T035903Z
UID:073652b8611b4ddab1d43b521e19fd50@www.isprambiente.gov.it
CREATED;VALUE=DATE-TIME:20151021T115938Z
LAST-MODIFIED;VALUE=DATE-TIME:20160404T163301Z
LOCATION:Rimini\, Ecomondo
URL:https://www.isprambiente.gov.it/en/archive/news-and-other-events/ispra
 -news/year-2015/november/the-environmental-and-economy-efficacy-of-europea
 n-ecolabel-for-the-tourism
END:VEVENT
END:VCALENDAR
