BEGIN:VCALENDAR
VERSION:2.0
PRODID:-//Plone.org//NONSGML plone.app.event//EN
X-WR-TIMEZONE:Europe/Berlin
BEGIN:VEVENT
SUMMARY:The planning training of the engineer and local governance
DTSTART;TZID=GMT+0;VALUE=DATE-TIME:20151126T143000
DTEND;TZID=GMT+0;VALUE=DATE-TIME:20151127T173000
DTSTAMP;VALUE=DATE-TIME:20260423T035753Z
UID:c27057a16b434bd4a1bfa91360e6ef3a@www.isprambiente.gov.it
CREATED;VALUE=DATE-TIME:20151112T095423Z
LAST-MODIFIED;VALUE=DATE-TIME:20160329T140749Z
LOCATION:Rome
URL:https://www.isprambiente.gov.it/en/archive/news-and-other-events/ispra
 -news/year-2015/november/the-planning-training-of-the-engineer-and-local-g
 overnance
END:VEVENT
END:VCALENDAR
