BEGIN:VCALENDAR
VERSION:2.0
PRODID:-//Plone.org//NONSGML plone.app.event//EN
X-WR-TIMEZONE:Europe/Berlin
BEGIN:VEVENT
SUMMARY:The right to food and global warming
DTSTART;TZID=GMT+0;VALUE=DATE-TIME:20151125T090000
DTEND;TZID=GMT+0;VALUE=DATE-TIME:20151125T130000
DTSTAMP;VALUE=DATE-TIME:20260423T035737Z
UID:8dda4819de3f4aabace91479b9638d4e@www.isprambiente.gov.it
CREATED;VALUE=DATE-TIME:20151112T124328Z
LAST-MODIFIED;VALUE=DATE-TIME:20160310T113323Z
LOCATION:Milan
URL:https://www.isprambiente.gov.it/en/archive/news-and-other-events/ispra
 -news/year-2015/november/the-right-to-food-and-global-warming
END:VEVENT
END:VCALENDAR
