BEGIN:VCALENDAR
VERSION:2.0
PRODID:-//Plone.org//NONSGML plone.app.event//EN
X-WR-TIMEZONE:Europe/Berlin
BEGIN:VEVENT
SUMMARY:Toward Paris: how to match  the challenge of the climate and the c
 ircular economy
DTSTART;TZID=GMT+0;VALUE=DATE-TIME:20151125T093000
DTEND;TZID=GMT+0;VALUE=DATE-TIME:20151126T160000
DTSTAMP;VALUE=DATE-TIME:20260423T035118Z
UID:020fadb61b4445a6a09fd03bf4534113@www.isprambiente.gov.it
CREATED;VALUE=DATE-TIME:20151112T153839Z
LAST-MODIFIED;VALUE=DATE-TIME:20160310T113323Z
LOCATION:Rome
URL:https://www.isprambiente.gov.it/en/archive/news-and-other-events/ispra
 -news/year-2015/november/toward-paris-how-to-match-the-challenge-of-the-cl
 imate-and-the-circular-economy
END:VEVENT
END:VCALENDAR
