BEGIN:VCALENDAR
VERSION:2.0
PRODID:-//Plone.org//NONSGML plone.app.event//EN
X-WR-TIMEZONE:Europe/Berlin
BEGIN:VEVENT
SUMMARY:WEEE between environment and business
DTSTART;TZID=GMT+0;VALUE=DATE-TIME:20151125T103000
DTEND;TZID=GMT+0;VALUE=DATE-TIME:20151125T130000
DTSTAMP;VALUE=DATE-TIME:20260423T034812Z
UID:910c9815f6aa4a55af16b668561bb946@www.isprambiente.gov.it
CREATED;VALUE=DATE-TIME:20151123T090634Z
LAST-MODIFIED;VALUE=DATE-TIME:20160310T135314Z
LOCATION:Rome
URL:https://www.isprambiente.gov.it/en/archive/news-and-other-events/ispra
 -news/year-2015/november/weee-between-environment-and-business
END:VEVENT
END:VCALENDAR
