BEGIN:VCALENDAR
VERSION:2.0
PRODID:-//Plone.org//NONSGML plone.app.event//EN
X-WR-TIMEZONE:Europe/Berlin
BEGIN:VEVENT
SUMMARY: IV Conference SIRAM 2015 – Workhosp Acquaspace
DTSTART;TZID=GMT+0;VALUE=DATE-TIME:20151106T090000
DTEND;TZID=GMT+0;VALUE=DATE-TIME:20151107T143000
DTSTAMP;VALUE=DATE-TIME:20260423T061205Z
UID:2c5b35a0b01544e8b037d7819cde4eb5@www.isprambiente.gov.it
CREATED;VALUE=DATE-TIME:20151022T095910Z
LAST-MODIFIED;VALUE=DATE-TIME:20160310T114002Z
LOCATION:Chioggia
URL:https://www.isprambiente.gov.it/en/archive/news-and-other-events/ispra
 -news/year-2015/october/iv-conference-siram-2015-2013-workhosp-acquaspace
END:VEVENT
END:VCALENDAR
