BEGIN:VCALENDAR
VERSION:2.0
PRODID:-//Plone.org//NONSGML plone.app.event//EN
X-WR-TIMEZONE:Europe/Berlin
BEGIN:VEVENT
SUMMARY:Conference : "Sea emergency: know to act"
DTSTART;TZID=GMT+0;VALUE=DATE-TIME:20180811T100000
DTEND;TZID=GMT+0;VALUE=DATE-TIME:20180811T160000
DTSTAMP;VALUE=DATE-TIME:20260423T091726Z
UID:03d04bd18261494cb3f18aba7184b067@www.isprambiente.gov.it
CREATED;VALUE=DATE-TIME:20180802T095446Z
LAST-MODIFIED;VALUE=DATE-TIME:20181227T115729Z
LOCATION:Muggia
URL:https://www.isprambiente.gov.it/en/archive/news-and-other-events/ispra
 -news/year-2018/august/conference-sea-emergency-know-to-act
END:VEVENT
END:VCALENDAR
