BEGIN:VCALENDAR
VERSION:2.0
PRODID:-//Plone.org//NONSGML plone.app.event//EN
X-WR-TIMEZONE:Europe/Berlin
BEGIN:VEVENT
SUMMARY:Seminar : "Plastics at sea and litorals : issues and proposals
DTSTART;TZID=GMT+0;VALUE=DATE-TIME:20180808T170000
DTEND;TZID=GMT+0;VALUE=DATE-TIME:20180808T200000
DTSTAMP;VALUE=DATE-TIME:20260423T091743Z
UID:9b47f4cb8504465fa82b62744a6e1a61@www.isprambiente.gov.it
CREATED;VALUE=DATE-TIME:20180802T100304Z
LAST-MODIFIED;VALUE=DATE-TIME:20181227T115729Z
URL:https://www.isprambiente.gov.it/en/archive/news-and-other-events/ispra
 -news/year-2018/august/seminar-plastics-at-sea-and-litorals-issues-and-pro
 posals
END:VEVENT
END:VCALENDAR
