BEGIN:VCALENDAR
VERSION:2.0
PRODID:-//Plone.org//NONSGML plone.app.event//EN
X-WR-TIMEZONE:Europe/Berlin
BEGIN:VEVENT
SUMMARY:Awarding of the winners of the Lazio Region Call for "Research Gro
 ups Projects"
DTSTART;TZID=GMT+0;VALUE=DATE-TIME:20181214T110000
DTEND;TZID=GMT+0;VALUE=DATE-TIME:20181214T110000
DTSTAMP;VALUE=DATE-TIME:20260423T081358Z
UID:f08394cfef2b4dc3b4e72b003de00ed8@www.isprambiente.gov.it
CREATED;VALUE=DATE-TIME:20181129T104109Z
LAST-MODIFIED;VALUE=DATE-TIME:20190424T160004Z
LOCATION:Roma\, ex Gil di Trastevere (via Ascianghi\, 5)
URL:https://www.isprambiente.gov.it/en/archive/news-and-other-events/ispra
 -news/year-2018/december/awarding-of-the-winners-of-the-lazio-region-call-
 for-research-groups-projects
END:VEVENT
END:VCALENDAR
