BEGIN:VCALENDAR
VERSION:2.0
PRODID:-//Plone.org//NONSGML plone.app.event//EN
X-WR-TIMEZONE:Europe/Berlin
BEGIN:VEVENT
SUMMARY:Final Conference LIFE SeResto
DTSTART;TZID=GMT+0;VALUE=DATE-TIME:20180222T093000
DTEND;TZID=GMT+0;VALUE=DATE-TIME:20180222T130000
DTSTAMP;VALUE=DATE-TIME:20260423T091651Z
UID:1087ba2fe483474491d6fd35d7e25649@www.isprambiente.gov.it
CREATED;VALUE=DATE-TIME:20180221T110454Z
LAST-MODIFIED;VALUE=DATE-TIME:20181227T104808Z
LOCATION:Venice-Auditorium Santa Margherita\, Dorsoduro 3689\, Campo Santa
  Margherita
URL:https://www.isprambiente.gov.it/en/archive/news-and-other-events/ispra
 -news/year-2018/february/final-conference-life-seresto
END:VEVENT
END:VCALENDAR
