BEGIN:VCALENDAR
VERSION:2.0
PRODID:-//Plone.org//NONSGML plone.app.event//EN
X-WR-TIMEZONE:Europe/Berlin
BEGIN:VEVENT
SUMMARY:LiFE Redune project : presentation conference
DTSTART;TZID=GMT+0;VALUE=DATE-TIME:20180223T090000
DTEND;TZID=GMT+0;VALUE=DATE-TIME:20180223T130000
DTSTAMP;VALUE=DATE-TIME:20260423T092319Z
UID:3ddb709faaca4beba702ba15ce69f0a0@www.isprambiente.gov.it
CREATED;VALUE=DATE-TIME:20180221T114000Z
LAST-MODIFIED;VALUE=DATE-TIME:20181227T104808Z
LOCATION:Mestre
URL:https://www.isprambiente.gov.it/en/archive/news-and-other-events/ispra
 -news/year-2018/february/life-redune-project-presentation-conference
END:VEVENT
END:VCALENDAR
