BEGIN:VCALENDAR
VERSION:2.0
PRODID:-//Plone.org//NONSGML plone.app.event//EN
X-WR-TIMEZONE:Europe/Berlin
BEGIN:VEVENT
SUMMARY:Building the national hydrologic balance a new model of environmen
 tal knowledge for the citizens
DTSTART;TZID=GMT+0;VALUE=DATE-TIME:20180731T093000
DTEND;TZID=GMT+0;VALUE=DATE-TIME:20180731T130000
DTSTAMP;VALUE=DATE-TIME:20260423T071816Z
UID:15364dfdc18144138983d7ec5ec0fae9@www.isprambiente.gov.it
CREATED;VALUE=DATE-TIME:20180720T155138Z
LAST-MODIFIED;VALUE=DATE-TIME:20181227T115332Z
LOCATION:Roma\, Auditorium ISPRA\, Via V. Brancati\, 48
URL:https://www.isprambiente.gov.it/en/archive/news-and-other-events/ispra
 -news/year-2018/july/building-the-national-hydrologic-balance-a-new-model-
 of-environmental-knowledge-for-the-citizens
END:VEVENT
END:VCALENDAR
