BEGIN:VCALENDAR
VERSION:2.0
PRODID:-//Plone.org//NONSGML plone.app.event//EN
X-WR-TIMEZONE:Europe/Berlin
BEGIN:VEVENT
SUMMARY:Climate change and variations in the Mediterranean Sea level
DTSTART;TZID=GMT+0;VALUE=DATE-TIME:20180705T093000
DTEND;TZID=GMT+0;VALUE=DATE-TIME:20180706T163000
DTSTAMP;VALUE=DATE-TIME:20260423T083917Z
UID:b75e1fc9051946289d2a79d512bedeed@www.isprambiente.gov.it
CREATED;VALUE=DATE-TIME:20180611T103636Z
LAST-MODIFIED;VALUE=DATE-TIME:20181227T115330Z
LOCATION:Rome
URL:https://www.isprambiente.gov.it/en/archive/news-and-other-events/ispra
 -news/year-2018/july/climate-change-and-variations-in-the-mediterranean-se
 a-level
END:VEVENT
END:VCALENDAR
