BEGIN:VCALENDAR
VERSION:2.0
PRODID:-//Plone.org//NONSGML plone.app.event//EN
X-WR-TIMEZONE:Europe/Berlin
BEGIN:VEVENT
SUMMARY:GOVERNANCE H30 - Participative construction of new governance scen
 arios of resources and natural risks
DTSTART;TZID=GMT+0;VALUE=DATE-TIME:20180608T093000
DTEND;TZID=GMT+0;VALUE=DATE-TIME:20180608T160000
DTSTAMP;VALUE=DATE-TIME:20260423T095005Z
UID:deb1c825f2e047b88a55e54d451e6a5d@www.isprambiente.gov.it
CREATED;VALUE=DATE-TIME:20180601T170236Z
LAST-MODIFIED;VALUE=DATE-TIME:20181227T114003Z
LOCATION:Orvieto
URL:https://www.isprambiente.gov.it/en/archive/news-and-other-events/ispra
 -news/year-2018/june/governance-h30-participative-construction-of-new-gove
 rnance-scenarios-of-resources-and-natural-risks
END:VEVENT
END:VCALENDAR
