BEGIN:VCALENDAR
VERSION:2.0
PRODID:-//Plone.org//NONSGML plone.app.event//EN
X-WR-TIMEZONE:Europe/Berlin
BEGIN:VEVENT
SUMMARY:Modeling for the management and protection of the marine environme
 nt
DTSTART;TZID=GMT+0;VALUE=DATE-TIME:20180605T090000
DTEND;TZID=GMT+0;VALUE=DATE-TIME:20180605T170000
DTSTAMP;VALUE=DATE-TIME:20260423T091857Z
UID:acbf186f232644d7b3a6e409dd82c7e4@www.isprambiente.gov.it
CREATED;VALUE=DATE-TIME:20180530T110444Z
LAST-MODIFIED;VALUE=DATE-TIME:20181227T114002Z
LOCATION:La Spezia
URL:https://www.isprambiente.gov.it/en/archive/news-and-other-events/ispra
 -news/year-2018/june/modeling-for-the-management-and-protection-of-the-mar
 ine-environment
END:VEVENT
END:VCALENDAR
