BEGIN:VCALENDAR
VERSION:2.0
PRODID:-//Plone.org//NONSGML plone.app.event//EN
X-WR-TIMEZONE:Europe/Berlin
BEGIN:VEVENT
SUMMARY:Sediment management in the channel networks: from measurements to 
 best-practices
DTSTART;TZID=GMT+0;VALUE=DATE-TIME:20181108T090000
DTEND;TZID=GMT+0;VALUE=DATE-TIME:20181109T180000
DTSTAMP;VALUE=DATE-TIME:20260423T091857Z
UID:7beac252aa614d0e8e4b3ab2ea89fdd9@www.isprambiente.gov.it
CREATED;VALUE=DATE-TIME:20180620T175945Z
LAST-MODIFIED;VALUE=DATE-TIME:20181227T114254Z
LOCATION:Bolzano
URL:https://www.isprambiente.gov.it/en/archive/news-and-other-events/ispra
 -news/year-2018/june/sediment-management-in-the-channel-networks-from-meas
 urements-to-best-practices
END:VEVENT
END:VCALENDAR
