BEGIN:VCALENDAR
VERSION:2.0
PRODID:-//Plone.org//NONSGML plone.app.event//EN
X-WR-TIMEZONE:Europe/Berlin
BEGIN:VEVENT
SUMMARY:System for water stream hydromorphological assessment\, analysis\,
  and monitoring – IDRAIM
DTSTART;TZID=GMT+0;VALUE=DATE-TIME:20180702T090000
DTEND;TZID=GMT+0;VALUE=DATE-TIME:20180706T160000
DTSTAMP;VALUE=DATE-TIME:20260423T091842Z
UID:55da57aa94bc4c42b9dd10657428b3a0@www.isprambiente.gov.it
CREATED;VALUE=DATE-TIME:20180423T104137Z
LAST-MODIFIED;VALUE=DATE-TIME:20181227T114001Z
URL:https://www.isprambiente.gov.it/en/archive/news-and-other-events/ispra
 -news/year-2018/june/system-for-water-stream-hydromorphological-assessment
 -analysis-and-monitoring-2013-idraim
END:VEVENT
END:VCALENDAR
