BEGIN:VCALENDAR
VERSION:2.0
PRODID:-//Plone.org//NONSGML plone.app.event//EN
X-WR-TIMEZONE:Europe/Berlin
BEGIN:VEVENT
SUMMARY:World Oceans Day: Nature\, Science and History meet in the lagoon
DTSTART;TZID=GMT+0;VALUE=DATE-TIME:20180608T160000
DTEND;TZID=GMT+0;VALUE=DATE-TIME:20180608T180000
DTSTAMP;VALUE=DATE-TIME:20260423T105322Z
UID:27a1c666ac884ebba00812bf94a50f00@www.isprambiente.gov.it
CREATED;VALUE=DATE-TIME:20180522T125939Z
LAST-MODIFIED;VALUE=DATE-TIME:20181227T114002Z
LOCATION:Venice
URL:https://www.isprambiente.gov.it/en/archive/news-and-other-events/ispra
 -news/year-2018/june/world-oceans-day-nature-science-and-history-meet-in-t
 he-lagoon
END:VEVENT
END:VCALENDAR
