BEGIN:VCALENDAR
VERSION:2.0
PRODID:-//Plone.org//NONSGML plone.app.event//EN
X-WR-TIMEZONE:Europe/Berlin
BEGIN:VEVENT
SUMMARY:Making the groundwater\, visible\, accessible and precious
DTSTART;TZID=GMT+0;VALUE=DATE-TIME:20180326T143000
DTEND;TZID=GMT+0;VALUE=DATE-TIME:20180326T183000
DTSTAMP;VALUE=DATE-TIME:20260423T104958Z
UID:804814b391764ca7b9cc74122a7b80c9@www.isprambiente.gov.it
CREATED;VALUE=DATE-TIME:20180322T100133Z
DESCRIPTION:2° International workshop Kindra
LAST-MODIFIED;VALUE=DATE-TIME:20181227T110115Z
LOCATION:Rome
URL:https://www.isprambiente.gov.it/en/archive/news-and-other-events/ispra
 -news/year-2018/march/making-the-groundwater-visible-accessible-and-precio
 us
END:VEVENT
END:VCALENDAR
