BEGIN:VCALENDAR
VERSION:2.0
PRODID:-//Plone.org//NONSGML plone.app.event//EN
X-WR-TIMEZONE:Europe/Berlin
BEGIN:VEVENT
SUMMARY:Safe management of the aging of "Seveso" plants equipments as part
  of the inspections ex art. 27 of Legislative Decree 105/2015
DTSTART;TZID=GMT+0;VALUE=DATE-TIME:20180323T090000
DTEND;TZID=GMT+0;VALUE=DATE-TIME:20180323T130000
DTSTAMP;VALUE=DATE-TIME:20260420T105810Z
UID:d2b2d6d947594a88aa60eb0a82872be4@www.isprambiente.gov.it
CREATED;VALUE=DATE-TIME:20180313T124115Z
LAST-MODIFIED;VALUE=DATE-TIME:20181227T110113Z
LOCATION:Rome
URL:https://www.isprambiente.gov.it/en/archive/news-and-other-events/ispra
 -news/year-2018/march/safe-management-of-the-aging-of-seveso-plants-equipm
 ents-as-part-of-the-inspections-ex-art.-27-of-legislative-decree-105-2015
END:VEVENT
END:VCALENDAR
