BEGIN:VCALENDAR
VERSION:2.0
PRODID:-//Plone.org//NONSGML plone.app.event//EN
X-WR-TIMEZONE:Europe/Berlin
BEGIN:VEVENT
SUMMARY:Air: which prospective for environment and health
DTSTART;TZID=GMT+0;VALUE=DATE-TIME:20180516T100000
DTEND;TZID=GMT+0;VALUE=DATE-TIME:20180516T130000
DTSTAMP;VALUE=DATE-TIME:20260420T104919Z
UID:126dede84b8a44f7bcc58d7d2aa623e5@www.isprambiente.gov.it
CREATED;VALUE=DATE-TIME:20180502T132435Z
LAST-MODIFIED;VALUE=DATE-TIME:20181227T112528Z
LOCATION:Ravenna
URL:https://www.isprambiente.gov.it/en/archive/news-and-other-events/ispra
 -news/year-2018/may/air-which-prospective-for-environment-and-health
END:VEVENT
END:VCALENDAR
